BEGIN:VCALENDAR
VERSION:2.0
PRODID:-//Port Alice - ECPv6.15.3//NONSGML v1.0//EN
CALSCALE:GREGORIAN
METHOD:PUBLISH
X-WR-CALNAME:Port Alice
X-ORIGINAL-URL:https://portalice.ca
X-WR-CALDESC:Events for Port Alice
REFRESH-INTERVAL;VALUE=DURATION:PT1H
X-Robots-Tag:noindex
X-PUBLISHED-TTL:PT1H
BEGIN:VTIMEZONE
TZID:America/Vancouver
BEGIN:DAYLIGHT
TZOFFSETFROM:-0800
TZOFFSETTO:-0700
TZNAME:PDT
DTSTART:20230312T100000
END:DAYLIGHT
BEGIN:STANDARD
TZOFFSETFROM:-0700
TZOFFSETTO:-0800
TZNAME:PST
DTSTART:20231105T090000
END:STANDARD
END:VTIMEZONE
BEGIN:VEVENT
DTSTART;TZID=America/Vancouver:20230515T180000
DTEND;TZID=America/Vancouver:20230515T200000
DTSTAMP:20260419T214759
CREATED:20230511T223916Z
LAST-MODIFIED:20230511T223916Z
UID:3548-1684173600-1684180800@portalice.ca
SUMMARY:Official Community Plan Update
DESCRIPTION:
URL:https://portalice.ca/event/official-community-plan-update/
LOCATION:Community Centre
CATEGORIES:Meeting
ORGANIZER;CN="Village of Port Alice":MAILTO:info@portalice.ca
END:VEVENT
BEGIN:VEVENT
DTSTART;TZID=America/Vancouver:20230517T090000
DTEND;TZID=America/Vancouver:20230517T110000
DTSTAMP:20260419T214759
CREATED:20230511T224238Z
LAST-MODIFIED:20230511T224238Z
UID:3550-1684314000-1684321200@portalice.ca
SUMMARY:Community Plan Update - Coffee Chat
DESCRIPTION:
URL:https://portalice.ca/event/community-plan-update-coffee-chat/
LOCATION:Foggy Mountain Coffee\, 1001 Marine Drive\, Port Alice\, BC\, V0N 2N0
CATEGORIES:Meeting
ORGANIZER;CN="Village of Port Alice":MAILTO:info@portalice.ca
END:VEVENT
BEGIN:VEVENT
DTSTART;TZID=America/Vancouver:20230524T180000
DTEND;TZID=America/Vancouver:20230524T200000
DTSTAMP:20260419T214759
CREATED:20220817T215856Z
LAST-MODIFIED:20230511T232531Z
UID:2953-1684951200-1684958400@portalice.ca
SUMMARY:Regular Council Meeting
DESCRIPTION:
URL:https://portalice.ca/event/regular-council-meeting-5/
LOCATION:Village Office\, 1061 Marine Drive\, Port Alice\, British Columbia\, V0N2N0\, Canada
CATEGORIES:Meeting
ORGANIZER;CN="Village of Port Alice":MAILTO:info@portalice.ca
END:VEVENT
END:VCALENDAR