BEGIN:VCALENDAR
VERSION:2.0
PRODID:-//Port Alice - ECPv6.15.3//NONSGML v1.0//EN
CALSCALE:GREGORIAN
METHOD:PUBLISH
X-ORIGINAL-URL:https://portalice.ca
X-WR-CALDESC:Events for Port Alice
REFRESH-INTERVAL;VALUE=DURATION:PT1H
X-Robots-Tag:noindex
X-PUBLISHED-TTL:PT1H
BEGIN:VTIMEZONE
TZID:America/Vancouver
BEGIN:DAYLIGHT
TZOFFSETFROM:-0800
TZOFFSETTO:-0700
TZNAME:PDT
DTSTART:20230312T100000
END:DAYLIGHT
BEGIN:STANDARD
TZOFFSETFROM:-0700
TZOFFSETTO:-0800
TZNAME:PST
DTSTART:20231105T090000
END:STANDARD
END:VTIMEZONE
BEGIN:VEVENT
DTSTART;TZID=America/Vancouver:20230614T180000
DTEND;TZID=America/Vancouver:20230614T200000
DTSTAMP:20260419T202414
CREATED:20230511T232623Z
LAST-MODIFIED:20230511T232623Z
UID:3565-1686765600-1686772800@portalice.ca
SUMMARY:Regular Council Meeting
DESCRIPTION:
URL:https://portalice.ca/event/regular-council-meeting-6/
LOCATION:Village Office\, 1061 Marine Drive\, Port Alice\, British Columbia\, V0N2N0\, Canada
CATEGORIES:Meeting
ORGANIZER;CN="Village of Port Alice":MAILTO:info@portalice.ca
END:VEVENT
END:VCALENDAR